Workbook

Sheet 確認１面
A1: 第十号様式（第三条、第三条の三関係）
A3: 確 認 申 請 書（工作物）
AM4: ※ デリートが作動しないセルは
AM5: バックスペースで消去してください。
A7: （第一面）
B9: 建築基準法第88条第１項において準用する同法第6条の２第1項の規定による確認を申請します。
B11: この申請書及び添付図書に記載の事項は、事実に相違ありません。
B13: 申請にあたっては、株式会社北関東建築検査機構の業務約款を遵守します。
C17: 株式会社 北関東建築検査機構
D19: 代表取締役 田口 和宏 様 | AM19: ※ 令和3年1月1日以降の申請から押印が不要となりました。
V22: 令和 | Z22: 年 | AC22: 月 | AF22: 日
Q26: 申請者氏名 | V26: =IF(確認２面!K7="","",確認２面!K7) | AM26: ←申請２面から連動します。
V28: =IF(確認２面その２!K8="","",確認２面その２!K8)
V30: =IF(確認２面その２!K16="","",確認２面その２!K16)
V32: =IF(確認２面その２!K24="","",確認２面その２!K24)
Q40: 代理者氏名 | V40: =IF(確認２面!K15="","",確認２面!K15) | AM40: ←申請２面から連動します。
Q42: 電話番号 | V42: =IF(確認２面!K20="","",確認２面!K20)
Q44: Ｆａｘ番号 | AM44: ※ ご連絡に必要です。 Ｆａｘ番号入力してください。
AN45: (入力すると色が消えます。）
A47: ※手数料欄
A51: ※ 受 付 欄 | J51: ※ 決 裁 欄 | AA51: ※確認番号欄
A53: 令和 年 月 日 | J53: 確認検査員 | AA53: 令和 年 月 日
A56: 第 工 | I56: 号 | AA56: 第 NKBI工- | AI56: 号
A59: 係員氏名 | AA59: 係員氏名

Sheet 確認２面
A1: （第二面）
A5: 【１．築造主】
B6: 【ｲ．氏名のフリガナ】
B7: 【ﾛ．氏名】
B8: 【ﾊ．郵便番号】
B9: 【ﾆ．住所】
B10: 【ﾎ．電話番号】
A13: 【２．代理者】
B14: 【ｲ．資格】 | J14: （ | M14: ）建築士 | R14: （ | W14: ）登録 第 | AH14: 号 | AV14: 大臣 | AW14: 大臣
B15: 【ﾛ．氏名】 | AV15: 北海道 | AW15: 北海道知事
B16: 【ﾊ．建築士事務所名】 | J16: （ | M16: ）建築士事務所 | R16: （ | W16: ）知事登録第 | AH16: 号 | AV16: 青森県 | AW16: 青森県知事
AV17: 岩手県 | AW17: 岩手県知事
B18: 【ﾆ．郵便番号】 | AV18: 宮城県 | AW18: 宮城県知事
B19: 【ﾎ．所在地】 | AV19: 秋田県 | AW19: 秋田県知事
B20: 【ﾍ．電話番号】 | AV20: 山形県 | AW20: 山形県知事
AV21: 福島県 | AW21: 福島県知事
AV22: 茨城県 | AW22: 茨城県知事
A23: 【３．設計者】 | AV23: 栃木県 | AW23: 栃木県知事
A24: （代表となる設計者） | AV24: 群馬県 | AW24: 群馬県知事
B25: 【ｲ．資格】 | J25: （ | M25: ）建築士 | R25: （ | W25: ）登録 第 | AH25: 号 | AV25: 埼玉県 | AW25: 埼玉県知事
B26: 【ﾛ．氏名】 | AV26: 千葉県 | AW26: 千葉県知事
B27: 【ﾊ．建築士事務所名】 | J27: （ | M27: ）建築士事務所 | R27: （ | W27: ）知事登録第 | AH27: 号 | AV27: 東京都 | AW27: 東京都知事
AV28: 神奈川県 | AW28: 神奈川県知事
B29: 【ﾆ．郵便番号】 | AV29: 新潟県 | AW29: 新潟県知事
B30: 【ﾎ．所在地】 | AV30: 富山県 | AW30: 富山県知事
B31: 【ﾍ．電話番号】 | AV31: 石川県 | AW31: 石川県知事
B32: 【ﾄ．作成した設計図書】 | AV32: 福井県 | AW32: 福井県知事
AV33: 山梨県 | AW33: 山梨県知事
AV34: 長野県 | AW34: 長野県知事
A35: （その他の設計者） | AV35: 岐阜県 | AW35: 岐阜県知事
B36: 【ｲ．資格】 | J36: （ | M36: ）建築士 | R36: （ | W36: ）登録 第 | AH36: 号 | AV36: 静岡県 | AW36: 静岡県知事
B37: 【ﾛ．氏名】 | AV37: 愛知県 | AW37: 愛知県知事
B38: 【ﾊ．建築士事務所名】 | J38: （ | M38: ）建築士事務所 | R38: （ | W38: ）知事登録第 | AH38: 号 | AV38: 三重県 | AW38: 三重県知事
AV39: 滋賀県 | AW39: 滋賀県知事
B40: 【ﾆ．郵便番号】 | AV40: 京都府 | AW40: 京都府知事
B41: 【ﾎ．所在地】 | AV41: 大阪府 | AW41: 大阪府知事
B42: 【ﾍ．電話番号】 | AV42: 兵庫県 | AW42: 兵庫県知事
B43: 【ﾄ．作成した設計図書】 | AV43: 奈良県 | AW43: 奈良県知事
AV44: 和歌山県 | AW44: 和歌山県知事
AV45: 鳥取県 | AW45: 鳥取県知事
B46: 【ｲ．資格】 | J46: （ | M46: ）建築士 | R46: （ | W46: ）登録 第 | AH46: 号 | AV46: 島根県 | AW46: 島根県知事
B47: 【ﾛ．氏名】 | AV47: 岡山県 | AW47: 岡山県知事
B48: 【ﾊ．建築士事務所名】 | J48: （ | M48: ）建築士事務所 | R48: （ | W48: ）知事登録第 | AH48: 号 | AV48: 広島県 | AW48: 広島県知事
AV49: 山口県 | AW49: 山口県知事
B50: 【ﾆ．郵便番号】 | AV50: 徳島県 | AW50: 徳島県知事
B51: 【ﾎ．所在地】 | AV51: 香川県 | AW51: 香川県知事
B52: 【ﾍ．電話番号】 | AV52: 愛媛県 | AW52: 愛媛県知事
B53: 【ﾄ．作成した設計図書】 | AV53: 高知県 | AW53: 高知県知事
AV54: 福岡県 | AW54: 福岡県知事
AV55: 佐賀県 | AW55: 佐賀県知事
B56: 【ｲ．資格】 | J56: （ | M56: ）建築士 | R56: （ | W56: ）登録 第 | AH56: 号 | AV56: 長崎県 | AW56: 長崎県知事
B57: 【ﾛ．氏名】 | AV57: 熊本県 | AW57: 熊本県知事
B58: 【ﾊ．建築士事務所名】 | J58: （ | M58: ）建築士事務所 | R58: （ | W58: ）知事登録第 | AH58: 号 | AV58: 大分県 | AW58: 大分県知事
AV59: 宮崎県 | AW59: 宮崎県知事
B60: 【ﾆ．郵便番号】 | AV60: 鹿児島県 | AW60: 鹿児島県知事
B61: 【ﾎ．所在地】 | AV61: 沖縄県 | AW61: 沖縄県知事
B62: 【ﾍ．電話番号】
B63: 【ﾄ．作成した設計図書】
A66: 【４．工事施工者】
B67: 【ｲ．氏名】
B68: 【ﾛ．営業所名】 | K68: 建設業の許可 | P68: （ | V68: ） | W68: 第 | AE68: 号
B70: 【ﾊ．郵便番号】
B71: 【ﾆ．所在地】
B72: 【ﾎ．電話番号】
A78: 【５．敷地の位置】
B79: 【ｲ．地名地番】
B83: 【ﾛ．住居表示】 | AM83: 記号 | AP83: 工作物の区分
A86: 【６．工作物の概要】 （ | H86: 番号 | N86: ) | AM86: 06310 | AP86: 煙突
B87: 【ｲ．種類】 | G87: ( | H87: 区分 | N87: ） | AM87: 06320 | AP87: 鉄筋ｺﾝｸﾘｰﾄ造の柱、鉄柱、木柱その他
B88: 【ﾛ．高さ】 | N88: m | AM88: 06330 | AP88: 広告塔、広告板、装飾塔、記念塔その他
B89: 【ﾊ．構造】 | AM89: 06340 | AP89: 高架水槽、サイロ、物見塔その他
B90: 【ﾆ．工事種別】 | J90: □ | K90: 新築 | M90: □ | N90: 増築 | P90: □ | Q90: 改築 | S90: □ | T90: その他（ | AC90: ） | AM90: 06350 | AP90: 擁壁
B91: 【ﾎ．その他必要な事項】 | AM91: 06360 | AP91: ｳｵｰﾀｰｼｭｰﾄ、ｺｰｽﾀｰその他高架の遊戯施設
AM92: 06370 | AP92: ﾒﾘｰｺﾞｰﾗｳﾝﾄﾞ、観覧車、ｵｸﾄﾊﾟｽ、飛行塔その他回転運動をする遊戯施設で原動機を使用するもの
A94: 【７．工事着手予定年月日】 | K94: 令和 | N94: 年 | P94: 月 | R94: 日
A97: 【８．工事完了予定年月日】 | K97: 令和 | N97: 年 | P97: 月 | R97: 日
A100: 【９．特定工程工事終了予定年月日】 | S100: （ 特定工程 ）
D101: （ | E101: 第 | G101: 回 | H101: ） | I101: 令和 | L101: 年 | N101: 月 | P101: 日 | Q101: （ | AI101: ）
D102: （ | E102: 第 | G102: 回 | H102: ） | I102: 令和 | L102: 年 | N102: 月 | P102: 日 | Q102: （ | AI102: ）
A105: 【10．備考】
B106: 【工作物の名称又は工事名】
C107: 【名称のフリガナ】
C108: 【名称】

Sheet 確認２面その２
A1: （第二面）その２
A3: 建築主等の概要
A6: 【１．築造主】
B7: 【ｲ．氏名のフリガナ】
B8: 【ﾛ．氏名】
B9: 【ﾊ．郵便番号】
B10: 【ﾆ．住所】
B11: 【ﾎ．電話番号】
A14: 【１．築造主】
B15: 【ｲ．氏名のフリガナ】
B16: 【ﾛ．氏名】
B17: 【ﾊ．郵便番号】
B18: 【ﾆ．住所】
B19: 【ﾎ．電話番号】
A22: 【１．築造主】
B23: 【ｲ．氏名のフリガナ】
B24: 【ﾛ．氏名】
B25: 【ﾊ．郵便番号】
B26: 【ﾆ．住所】
B27: 【ﾎ．電話番号】

Sheet 委任状
A1: 委 任 状
AB5: 捨 印
A6: 【 代 理 者 】 | AM6: ※ この書式に限定するものではありません。
B7: 【ｲ．資格】 | J7: （ | K7: =IF(確認２面!K14="","",確認２面!K14) | M7: ）建築士 | R7: （ | S7: =IF(確認２面!S14="","",確認２面!S14) | U7: =IF([1]確２面!U15="","",[1]確２面!U15) -> 大臣 | W7: ）登録 第 | AB7: =IF(確認２面!AB14="","",確認２面!AB14) | AD7: =IF([1]確２面!AD15="","",[1]確２面!AD15) | AF7: =IF([1]確２面!AF15="","",[1]確２面!AF15) | AH7: 号 | AM7: 貴事務所独自の様式を用いても差し支えありません。
B8: 【ﾛ．氏名】 | K8: =IF(確認２面!K15="","",確認２面!K15)
B9: 【ﾊ．建築士事務所名】 | J9: （ | K9: =IF(確認２面!K16="","",確認２面!K16) | M9: ）建築士事務所 | R9: （ | S9: =IF(確認２面!S16="","",確認２面!S16) | U9: =IF([1]確２面!U17="","",[1]確２面!U17) -> 大臣 | W9: ）知事登録第 | AB9: =IF(確認２面!AB16="","",確認２面!AB16) | AD9: =IF([1]確２面!AD17="","",[1]確２面!AD17) | AF9: =IF([1]確２面!AF17="","",[1]確２面!AF17) | AH9: 号 | AM9: ※ 委任状の訂正は、代理人印ではできませんので注意！
H10: =IF([1]概１面!H15="","",[1]概１面!H15) | K10: =IF(確認２面!K17="","",確認２面!K17) | AM10: 建築主様の捨印を空欄に頂いておくと良いです。
B11: 【ﾆ．郵便番号】 | H11: =IF([1]概１面!H16="","",[1]概１面!H16) | K11: =IF(確認２面!K18="","",確認２面!K18)
B12: 【ﾎ．所在地】 | H12: =IF([1]概１面!H17="","",[1]概１面!H17) | K12: =IF(確認２面!K19="","",確認２面!K19) | AN12: 文字の訂正は
B13: 【ﾍ．電話番号】 | H13: =IF([1]概１面!H18="","",[1]概１面!H18) | K13: =IF(確認２面!K20="","",確認２面!K20) | AN13: 「○字削除 ○字加入 ㊞」
AN14: 字数が同じなら 「○字訂正 ㊞」 のようにします。
B16: 上記の者を代理人と定め、下記の建築物について建築に関する法令の規定による申請手続きを
B17: 委任する。
B19: 【１．地名地番】 | I19: =IF(確認２面!H79="","",確認２面!H79)
B22: 【２．主要用途】 | I22: =IF(確認２面!O87="","",確認２面!O87)
B24: 【３．工事種別】 | I24: =IF(確認２面!J90="■","新築",IF(確認２面!M90="■","増築",IF(確認２面!P90="■","改築",IF(確認２面!S90="■","その他"&" （ "&確認２面!W90&" ）")))) -> FALSE
B26: 【４．委任事項】 | I26: ■ | J26: 確認申請手続 | R26: ■ | S26: 確認済証受取 | AM26: ※ 委任を受ける項目を選択してください。
AM27: 確認申請時に検査の委任も受けておくと
I28: □ | J28: 中間検査申請手続 | R28: □ | S28: 中間検査合格証受取 | AM28: 追加で委任状を提出する必要がありません。
I29: □ | J29: 完了検査申請手続 | R29: □ | S29: 検査済証受取
I30: □ | J30: 現場検査立会
I31: □ | J31: 取止・取下届提出
I32: □ | J32: その他 | M32: ( | AB32: )
V36: 令和 | Z36: 年 | AC36: 月 | AF36: 日 | AM36: ※ 日付はあらかじめ入力できません。
C37: 【建築主 １】 | AM37: 建築主様が本書に押印された日を手書きしてください。
D38: 【ｲ．氏名のﾌﾘｶﾞﾅ】 | K38: =IF(確認２面!K6="","",確認２面!K6)
D39: 【ﾛ．氏名】 | K39: =IF(確認２面!K7="","",確認２面!K7) | AD39: ㊞ | AM39: ※ 委任状は自筆署名でない場合は押印が必要です。
D40: 【ﾊ．郵便番号】 | K40: =IF(確認２面!K8="","",確認２面!K8)
D41: 【ﾆ．住所】 | K41: =IF(確認２面!K9="","",確認２面!K9)
D42: 【ﾎ．電話番号】 | K42: =IF(確認２面!K10="","",確認２面!K10)
C44: =IF([1]確２面その２!$K$8="","","【建築主２】")
D45: =IF(確認２面その２!$K$8="","","【ｲ．氏名のﾌﾘｶﾞﾅ】") | K45: =IF(確認２面その２!K7="","",確認２面その２!K7)
D46: =IF(確認２面その２!$K$8="","","【ﾛ．氏名】") | K46: =IF(確認２面その２!K8="","",確認２面その２!K8) | AD46: =IF(確認２面その２!$K$8="","","㊞")
D47: =IF(確認２面その２!$K$8="","","【ﾊ．郵便番号】") | K47: =IF(確認２面その２!K9="","",確認２面その２!K9)
D48: =IF(確認２面その２!$K$8="","","【ﾆ．住所】") | K48: =IF(確認２面その２!K10="","",確認２面その２!K10)
D49: =IF(確認２面その２!$K$8="","","【ﾎ．電話番号】") | K49: =IF(確認２面その２!K11="","",確認２面その２!K11)
C51: =IF([1]確２面その２!$K$16="","","【建築主３】")
D52: =IF(確認２面その２!$K$16="","","【ｲ．氏名のﾌﾘｶﾞﾅ】") | K52: =IF(確認２面その２!K15="","",確認２面その２!K15)
D53: =IF(確認２面その２!$K$16="","","【ﾛ．氏名】") | K53: =IF(確認２面その２!K16="","",確認２面その２!K16) | AD53: =IF(確認２面その２!$K$16="","","㊞")
D54: =IF(確認２面その２!$K$16="","","【ﾊ．郵便番号】") | K54: =IF(確認２面その２!K17="","",確認２面その２!K17)
D55: =IF(確認２面その２!$K$16="","","【ﾆ．住所】") | K55: =IF(確認２面その２!K18="","",確認２面その２!K18)
D56: =IF(確認２面その２!$K$16="","","【ﾎ．電話番号】") | K56: =IF(確認２面その２!K19="","",確認２面その２!K19)
C58: =IF([1]確２面その２!$K$24="","","【建築主４】")
D59: =IF(確認２面その２!$K$24="","","【ｲ．氏名のﾌﾘｶﾞﾅ】") | K59: =IF(確認２面その２!K23="","",確認２面その２!K23)
D60: =IF(確認２面その２!$K$24="","","【ﾛ．氏名】") | K60: =IF(確認２面その２!K24="","",確認２面その２!K24) | AD60: =IF(確認２面その２!$K$24="","","㊞")
D61: =IF(確認２面その２!$K$24="","","【ﾊ．郵便番号】") | K61: =IF(確認２面その２!K25="","",確認２面その２!K25)
D62: =IF(確認２面その２!$K$24="","","【ﾆ．住所】") | K62: =IF(確認２面その２!K26="","",確認２面その２!K26)
D63: =IF(確認２面その２!$K$24="","","【ﾎ．電話番号】") | K63: =IF(確認２面その２!K27="","",確認２面その２!K27)
