Workbook

Sheet 利用方法
AY1: 用途地域 | BA1: 用 途 | BE1: 登 録 | BI1: 工事届 | BM1: ＮＫＢＩ事業所
AY2: 地域指定なし | BA2: =BB2&" ： "&BC2 -> 08010 ： 一戸建ての住宅 | BB2: 08010 | BC2: 一戸建ての住宅 | BE2: 0 | BF2: 大臣 | BG2: 大臣 | BI2: =BJ2&" ： "&BK2 -> 01 ： 居住専用住宅（付属建築物を除く。） | BJ2: 01 | BK2: 居住専用住宅（付属建築物を除く。） | BM2: 1 | BN2: 群馬（前橋市） | BO2: 群馬事業所 | BP2: 〒371-0804 | BQ2: 群馬県前橋市六供町1025番地 | BR2: TEL 027-212-7575 | BS2: FAX 027-212-7576 | BT2: RK-
B3: ご利用方法 | Y3: このシートは削除や改編しないでください。 | AY3: 第一種低層住居専用地域 | BA3: =BB3&" ： "&BC3 -> 08020 ： 長屋 | BB3: 08020 | BC3: 長屋 | BE3: 1 | BF3: 北海道 | BG3: 北海道知事 | BI3: =BJ3&" ： "&BK3 -> 02 ： 居住専用住宅付属建築物（物置、車庫等） | BJ3: 02 | BK3: 居住専用住宅付属建築物（物置、車庫等） | BM3: 2 | BN3: 茨城（筑西市） | BO3: 茨城事業所 | BP3: 〒308-0802 | BQ3: 茨城県筑西市横島229番地5 | BR3: TEL 0296-49-8070 | BS3: FAX 0296-49-8071 | BT3: UM-
AY4: 第二種低層住居専用地域 | BA4: =BB4&" ： "&BC4 -> 08030 ： 共同住宅 | BB4: 08030 | BC4: 共同住宅 | BE4: 2 | BF4: 青森県 | BG4: 青森県知事 | BI4: =BJ4&" ： "&BK4 -> 03 ： 寮、寄宿舎、合宿所（付属建築物を除く。） | BJ4: 03 | BK4: 寮、寄宿舎、合宿所（付属建築物を除く。） | BM4: 3 | BN4: 栃木（小山市） | BO4: 栃木事業所 | BP4: 〒323-0031 | BQ4: 栃木県小山市八幡町2丁目9番地28 | BR4: TEL 0285-37-9211 | BS4: FAX 0285-37-9212 | BT4: YH-
B5: 一般 | AY5: 第一種中高層住居専用地域 | BA5: =BB5&" ： "&BC5 -> 08040 ： 寄宿舎 | BB5: 08040 | BC5: 寄宿舎 | BE5: 3 | BF5: 岩手県 | BG5: 岩手県知事 | BI5: =BJ5&" ： "&BK5 -> 04 ： 寮、寄宿舎、合宿所付属建築物（物置、車庫等） | BJ5: 04 | BK5: 寮、寄宿舎、合宿所付属建築物（物置、車庫等）
AY6: 第二種中高層住居専用地域 | BA6: =BB6&" ： "&BC6 -> 08050 ： 下宿 | BB6: 08050 | BC6: 下宿 | BE6: 4 | BF6: 宮城県 | BG6: 宮城県知事 | BI6: =BJ6&" ： "&BK6 -> 05 ： 他に分類されない居住専用建築物 | BJ6: 05 | BK6: 他に分類されない居住専用建築物
C7: 1 | D7: 本申請書は、Excell2007バージョンで作成しています。 | AY7: 第一種住居地域 | BA7: =BB7&" ： "&BC7 -> 08060 ： 住宅で事務所、店舗その他これらに類する用途を兼ねるもの | BB7: 08060 | BC7: 住宅で事務所、店舗その他これらに類する用途を兼ねるもの | BE7: 5 | BF7: 秋田県 | BG7: 秋田県知事
C8: 2 | D8: 申請書のレイアウトを保つために、各シートには保護がかかっています。 | AY8: 第二種住居地域 | BA8: =BB8&" ： "&BC8 -> 08070 ： 幼稚園 | BB8: 08070 | BC8: 幼稚園 | BE8: 6 | BF8: 山形県 | BG8: 山形県知事
D9: ゆえに、自由に改変はできませんので、ご了承ください。 | AY9: 準住居地域 | BA9: =BB9&" ： "&BC9 -> 08080 ： 小学校 | BB9: 08080 | BC9: 小学校 | BE9: 7 | BF9: 福島県 | BG9: 福島県知事
C10: 3 | D10: 入力ができるセル（主に結合セル）、できないセルがあります。 | AY10: 田園住居地域 | BA10: =BB10&" ： "&BC10 -> 08082 ： 義務教育学校 | BB10: 08082 | BC10: 義務教育学校 | BE10: 8 | BF10: 茨城県 | BG10: 茨城県知事
C11: 4 | D11: 水色セルは、必須入力部分です。入力すると着色が消えます。 | AY11: 近隣商業地域 | BA11: =BB11&" ： "&BC11 -> 08090 ： 中学校又は高等学校又は中等教育学校 | BB11: 08090 | BC11: 中学校又は高等学校又は中等教育学校 | BE11: 9 | BF11: 栃木県 | BG11: 栃木県知事 | BI11: =BJ11&" ： "&BK11 -> 11 ： 農業、林業、漁業、水産養殖業 | BJ11: 11 | BK11: 農業、林業、漁業、水産養殖業
C12: 5 | D12: 誤って入力した場合、消去するには「DEL」キーまたは「BACK SPACE」キーを使用してください。 | AY12: 商業地域 | BA12: =BB12&" ： "&BC12 -> 08100 ： 特別支援学校 | BB12: 08100 | BC12: 特別支援学校 | BE12: 10 | BF12: 群馬県 | BG12: 群馬県知事 | BI12: =BJ12&" ： "&BK12 -> 12 ： 鉱業、採石業、砂利採取業 | BJ12: 12 | BK12: 鉱業、採石業、砂利採取業
AY13: 準工業地域 | BA13: =BB13&" ： "&BC13 -> 08110 ： 大学又は高等専門学校 | BB13: 08110 | BC13: 大学又は高等専門学校 | BE13: 11 | BF13: 埼玉県 | BG13: 埼玉県知事 | BI13: =BJ13&" ： "&BK13 -> 13 ： 建設業 | BJ13: 13 | BK13: 建設業
B14: 申請書の入力方法 | AY14: 工業地域 | BA14: =BB14&" ： "&BC14 -> 08120 ： 専修学校 | BB14: 08120 | BC14: 専修学校 | BE14: 12 | BF14: 千葉県 | BG14: 千葉県知事 | BI14: =BJ14&" ： "&BK14 -> 14 ： 食品製造業、飲料・たばこ・飼料製造業、繊維工業、木材・木製品製造業、家具・装備品製造業、パルプ・紙・紙加工品製造業、印刷・同関連業、プラスチック製品製造業（記号15から記号18までに該当するものを除く。）、窯業・土石製品製造業 | BJ14: 14 | BK14: 食品製造業、飲料・たばこ・飼料製造業、繊維工業、木材・木製品製造業、家具・装備品製造業、パルプ・紙・紙加工品製造業、印刷・同関連業、プラスチック製品製造業（記号15から記号18までに該当するものを除く。）、窯業・土石製品製造業
AY15: 工業専用地域 | BA15: =BB15&" ： "&BC15 -> 08130 ： 各種学校 | BB15: 08130 | BC15: 各種学校 | BE15: 13 | BF15: 東京都 | BG15: 東京都知事 | BI15: =BJ15&" ： "&BK15 -> 15 ： 化学工業、石油製品・石炭製品製造業 | BJ15: 15 | BK15: 化学工業、石油製品・石炭製品製造業
C16: 1 | D16: 確認申請書は、確１面～確６面のそれぞれのシートに入力して下さい。 | BA16: =BB16&" ： "&BC16 -> 08132 ： 幼保連携型認定こども園 | BB16: 08132 | BC16: 幼保連携型認定こども園 | BE16: 14 | BF16: 神奈川県 | BG16: 神奈川県知事 | BI16: =BJ16&" ： "&BK16 -> 16 ： 鉄鋼業、非鉄金属製造業、金属製品製造業 | BJ16: 16 | BK16: 鉄鋼業、非鉄金属製造業、金属製品製造業
C17: 2 | D17: 合計値の計算、容積率・建蔽率の計算は、自動で計算します。 | BA17: =BB17&" ： "&BC17 -> 08140 ： 図書館その他これに類するもの | BB17: 08140 | BC17: 図書館その他これに類するもの | BE17: 15 | BF17: 新潟県 | BG17: 新潟県知事 | BI17: =BJ17&" ： "&BK17 -> 17 ： 汎用機械器具製造業、生産用機械器具製造業、業務用機械器具製造業、電子部品・デバイス・電子回路製造業、電気機械器具製造業、情報通信機械器具製造業、輸送用機械器具製造業 | BJ17: 17 | BK17: 汎用機械器具製造業、生産用機械器具製造業、業務用機械器具製造業、電子部品・デバイス・電子回路製造業、電気機械器具製造業、情報通信機械器具製造業、輸送用機械器具製造業
C18: 3 | D18: 建築計画概要書の第１面～第２面は、全て自動で作成されます。 | BA18: =BB18&" ： "&BC18 -> 08150 ： 博物館その他これに類するもの | BB18: 08150 | BC18: 博物館その他これに類するもの | BE18: 16 | BF18: 富山県 | BG18: 富山県知事 | BI18: =BJ18&" ： "&BK18 -> 18 ： ゴム製品製造業、なめし革・同製品・毛皮製造業、その他の製造業 | BJ18: 18 | BK18: ゴム製品製造業、なめし革・同製品・毛皮製造業、その他の製造業
C19: 4 | D19: 工事届は、工１面～工４面のそれぞれのシートに入力して下さい。 | BA19: =BB19&" ： "&BC19 -> 08160 ： 神社、寺院、教会その他これらに類するもの | BB19: 08160 | BC19: 神社、寺院、教会その他これらに類するもの | BE19: 17 | BF19: 石川県 | BG19: 石川県知事 | BI19: =BJ19&" ： "&BK19 -> 19 ： 電気業 | BJ19: 19 | BK19: 電気業
C20: 5 | D20: 工事届で、確認申請と連動する部分は自動で作成されますが、個別入力部分もありますので注意してください。 | BA20: =BB20&" ： "&BC20 -> 08170 ： 老人ホーム、福祉ホームその他これに類するもの | BB20: 08170 | BC20: 老人ホーム、福祉ホームその他これに類するもの | BE20: 18 | BF20: 福井県 | BG20: 福井県知事 | BI20: =BJ20&" ： "&BK20 -> 20 ： ガス業 | BJ20: 20 | BK20: ガス業
C21: 6 | D21: 中間検査申請書の主要入力部分は、確認申請書と連動しています。 | BA21: =BB21&" ： "&BC21 -> 08180 ： 保育所その他これに類するもの | BB21: 08180 | BC21: 保育所その他これに類するもの | BE21: 19 | BF21: 山梨県 | BG21: 山梨県知事 | BI21: =BJ21&" ： "&BK21 -> 21 ： 熱供給業 | BJ21: 21 | BK21: 熱供給業
C22: 7 | D22: 完了検査申請書の主要入力部分は、確認申請書と連動しています。 | BA22: =BB22&" ： "&BC22 -> 08190 ： 助産所 | BB22: 08190 | BC22: 助産所 | BE22: 20 | BF22: 長野県 | BG22: 長野県知事 | BI22: =BJ22&" ： "&BK22 -> 22 ： 水道業 | BJ22: 22 | BK22: 水道業
BA23: =BB23&" ： "&BC23 -> 08210 ： 児童福祉施設等（前3項に掲げるものを除く。） | BB23: 08210 | BC23: 児童福祉施設等（前3項に掲げるものを除く。） | BE23: 21 | BF23: 岐阜県 | BG23: 岐阜県知事 | BI23: =BJ23&" ： "&BK23 -> 23 ： 通信業 | BJ23: 23 | BK23: 通信業
BA24: =BB24&" ： "&BC24 -> 08230 ： 公衆浴場（個室付浴場業に係る公衆浴場を除く。） | BB24: 08230 | BC24: 公衆浴場（個室付浴場業に係る公衆浴場を除く。） | BE24: 22 | BF24: 静岡県 | BG24: 静岡県知事 | BI24: =BJ24&" ： "&BK24 -> 24 ： 放送業、情報サービス業、インターネット附随サービス業 | BJ24: 24 | BK24: 放送業、情報サービス業、インターネット附随サービス業
B25: 印刷する上の注意 | BA25: =BB25&" ： "&BC25 -> 08240 ： 診療所（患者の収容施設のあるものに限る。） | BB25: 08240 | BC25: 診療所（患者の収容施設のあるものに限る。） | BE25: 23 | BF25: 愛知県 | BG25: 愛知県知事 | BI25: =BJ25&" ： "&BK25 -> 25 ： 映像・音声・文字情報制作業（新聞業及び出版業を除く。） | BJ25: 25 | BK25: 映像・音声・文字情報制作業（新聞業及び出版業を除く。）
BA26: =BB26&" ： "&BC26 -> 08250 ： 診療所（患者の収容施設のないものに限る。） | BB26: 08250 | BC26: 診療所（患者の収容施設のないものに限る。） | BE26: 24 | BF26: 三重県 | BG26: 三重県知事 | BI26: =BJ26&" ： "&BK26 -> 26 ： 映像・音声・文字情報制作業（新聞業及び出版業に限る。） | BJ26: 26 | BK26: 映像・音声・文字情報制作業（新聞業及び出版業に限る。）
C27: 1 | D27: 本シートは、印刷プレビューモードに初期設定しています。 | BA27: =BB27&" ： "&BC27 -> 08260 ： 病院 | BB27: 08260 | BC27: 病院 | BE27: 25 | BF27: 滋賀県 | BG27: 滋賀県知事 | BI27: =BJ27&" ： "&BK27 -> 27 ： 鉄道業、道路旅客運送業、道路貨物運送業、水運業、航空運輸業、倉庫業、運輸に附帯するサービス業 | BJ27: 27 | BK27: 鉄道業、道路旅客運送業、道路貨物運送業、水運業、航空運輸業、倉庫業、運輸に附帯するサービス業
C28: 2 | D28: 青線内が印刷される部分で、横破線が改ページする部分です。 | BA28: =BB28&" ： "&BC28 -> 08270 ： 巡査派出所 | BB28: 08270 | BC28: 巡査派出所 | BE28: 26 | BF28: 京都府 | BG28: 京都府知事 | BI28: =BJ28&" ： "&BK28 -> 28 ： 卸売・小売業 | BJ28: 28 | BK28: 卸売・小売業
C29: 3 | D29: 改ページの範囲がずれてしまうと、印刷されるレイアウトが崩れますので、外枠にあるガイドラインに従って | BA29: =BB29&" ： "&BC29 -> 08280 ： 公衆電話所 | BB29: 08280 | BC29: 公衆電話所 | BE29: 27 | BF29: 大阪府 | BG29: 大阪府知事 | BI29: =BJ29&" ： "&BK29 -> 29 ： 金融業、保険業 | BJ29: 29 | BK29: 金融業、保険業
D30: 元のとおりに修正してください。 | BA30: =BB30&" ： "&BC30 -> 08290 ： 郵便の業務の用に供する施設 | BB30: 08290 | BC30: 郵便の業務の用に供する施設 | BE30: 28 | BF30: 兵庫県 | BG30: 兵庫県知事 | BI30: =BJ30&" ： "&BK30 -> 30 ： 不動産取引業、不動産賃貸業・管理業（駐車場業を除く。） | BJ30: 30 | BK30: 不動産取引業、不動産賃貸業・管理業（駐車場業を除く。）
BA31: =BB31&" ： "&BC31 -> 08300 ： 地方公共団体の支庁又は支所 | BB31: 08300 | BC31: 地方公共団体の支庁又は支所 | BE31: 29 | BF31: 奈良県 | BG31: 奈良県知事 | BI31: =BJ31&" ： "&BK31 -> 31 ： 不動産賃貸業・管理業（駐車場業に限る。） | BJ31: 31 | BK31: 不動産賃貸業・管理業（駐車場業に限る。）
B32: 申請で印刷する書類 | BA32: =BB32&" ： "&BC32 -> 08310 ： 公衆便所、休憩所又は路線バスの停留所の上家 | BB32: 08310 | BC32: 公衆便所、休憩所又は路線バスの停留所の上家 | BE32: 30 | BF32: 和歌山県 | BG32: 和歌山県知事 | BI32: =BJ32&" ： "&BK32 -> 32 ： 宿泊業 | BJ32: 32 | BK32: 宿泊業
BA33: =BB33&" ： "&BC33 -> 08320 ： 建築基準法施行令第130条の4第5号に基づき国土交通大臣が指定する施設 | BB33: 08320 | BC33: 建築基準法施行令第130条の4第5号に基づき国土交通大臣が指定する施設 | BE33: 31 | BF33: 鳥取県 | BG33: 鳥取県知事 | BI33: =BJ33&" ： "&BK33 -> 33 ： 飲食店、持ち帰り・配達飲食サービス業 | BJ33: 33 | BK33: 飲食店、持ち帰り・配達飲食サービス業
C34: 1 | D34: 確認申請 | BA34: =BB34&" ： "&BC34 -> 08330 ： 税務署、警察署、保健所又は消防署その他これらに類するもの | BB34: 08330 | BC34: 税務署、警察署、保健所又は消防署その他これらに類するもの | BE34: 32 | BF34: 島根県 | BG34: 島根県知事 | BI34: =BJ34&" ： "&BK34 -> 34 ： 学校教育 | BJ34: 34 | BK34: 学校教育
D35: ① | E35: 事前申込書 （事前相談申込書 事前相談回答書 同継続用紙） | BA35: =BB35&" ： "&BC35 -> 08340 ： 工場（自動車修理工場を除く。） | BB35: 08340 | BC35: 工場（自動車修理工場を除く。） | BE35: 33 | BF35: 岡山県 | BG35: 岡山県知事 | BI35: =BJ35&" ： "&BK35 -> 35 ： その他の教育、学習支援業（社会教育に限る。） | BJ35: 35 | BK35: その他の教育、学習支援業（社会教育に限る。）
D36: ② | E36: 確認申請書 （第１面～第６面） | BA36: =BB36&" ： "&BC36 -> 08350 ： 自動車修理工場 | BB36: 08350 | BC36: 自動車修理工場 | BE36: 34 | BF36: 広島県 | BG36: 広島県知事 | BI36: =BJ36&" ： "&BK36 -> 36 ： その他の教育、学習支援業（学習塾及び教養・技能教授業に限る。） | BJ36: 36 | BK36: その他の教育、学習支援業（学習塾及び教養・技能教授業に限る。）
D37: ③ | E37: 委任状 | BA37: =BB37&" ： "&BC37 -> 08360 ： 危険物の貯蔵又は処理に供するもの | BB37: 08360 | BC37: 危険物の貯蔵又は処理に供するもの | BE37: 35 | BF37: 山口県 | BG37: 山口県知事 | BI37: =BJ37&" ： "&BK37 -> 37 ： その他の教育、学習支援業（記号35及び記号36に該当するものを除く。） | BJ37: 37 | BK37: その他の教育、学習支援業（記号35及び記号36に該当するものを除く。）
D38: ④ | E38: 建築計画概要書 （第１面～第３面） | BA38: =BB38&" ： "&BC38 -> 08370 ： ボーリング場、スケート場、水泳場、スキー場、ゴルフ練習場又はバッティング練習場 | BB38: 08370 | BC38: ボーリング場、スケート場、水泳場、スキー場、ゴルフ練習場又はバッティング練習場 | BE38: 36 | BF38: 徳島県 | BG38: 徳島県知事 | BI38: =BJ38&" ： "&BK38 -> 38 ： 医療業、保健衛生 | BJ38: 38 | BK38: 医療業、保健衛生
D39: ⑤ | E39: 工事届 （第１面～第４面） | BA39: =BB39&" ： "&BC39 -> 08380 ： 体育館又はスポーツの練習場（前項に掲げるものを除く。） | BB39: 08380 | BC39: 体育館又はスポーツの練習場（前項に掲げるものを除く。） | BE39: 37 | BF39: 香川県 | BG39: 香川県知事 | BI39: =BJ39&" ： "&BK39 -> 39 ： 社会保険・社会福祉・介護事業 | BJ39: 39 | BK39: 社会保険・社会福祉・介護事業
D40: ⑥ | E40: 現地調査書 | BA40: =BB40&" ： "&BC40 -> 08390 ： マージャン屋、ぱちんこ屋、射的場、勝馬投票券発売所、場外車券売場その他これらに類するもの又はカラオケボックスその他これらに類するもの | BB40: 08390 | BC40: マージャン屋、ぱちんこ屋、射的場、勝馬投票券発売所、場外車券売場その他これらに類するもの又はカラオケボックスその他これらに類するもの | BE40: 38 | BF40: 愛媛県 | BG40: 愛媛県知事 | BI40: =BJ40&" ： "&BK40 -> 40 ： 郵便業（信書便事業を含む。）、郵便局 | BJ40: 40 | BK40: 郵便業（信書便事業を含む。）、郵便局
...

Sheet 確１面
A1: 第二号様式（第一条の三、第三条、第三条の三関係）
A3: 確 認 申 請 書（建築物）
AL4: このブックは、確認申請書の書式を入力すると、他の様式の
AL5: 申請者氏名のみ自動的に入力されるように構成しています。
A7: （第一面） | AL7: 関数やレイアウトを保つため、シートに保護がかけてあります。
B9: 建築基準法第６条第１項又は第６条の２第１項の規定による確認を申請します。この申請書及び添付
B11: 図書に記載の事項は、事実に相違ありません。
B13: 申請にあたっては、株式会社北関東建築検査機構の業務約款を遵守します。 | AL13: 入力ミスなどで、その部分を消去したいときは「ＤＥＬ」 または
AL14: 「ＢＡＣＫ ＳＰＡＣＥ」キーを使用してください。
AV16: Ⓒ NKBI情報管理室
C17: 株式会社 北関東建築検査機構
D19: 代表取締役 田口 和宏 様 | AL19: ※ 令和3年1月1日以降の申請から押印が不要となりました。
AL20: （委任状は建築主押印を略さないでください。）
V22: 令和 | Z22: 年 | AC22: 月 | AF22: 日 | AL22: ※ 申請日は印刷後に手書きしてください。(本申請の日付）
AM23: あらかじめ入力できないようにしてあります。
Q26: 申請者氏名 | AL26: ※ 入力して下さい。
Q35: 設計者氏名 | AL35: ※ 入力して下さい。
Q40: 代理者氏名 | AL40: ※ 入力して下さい。
Q42: 電話番号 | AL42: ※ 〃
Q44: Ｆａｘ番号 | AL44: ※ ご連絡に必要です。 Ｆａｘ番号入力してください。
AM45: (入力すると色が消えます。）
A47: ※手数料欄
A51: ※ 受 付 欄 | J51: ※消防関係同意欄 | S51: ※ 決 裁 欄 | AA51: ※確認番号欄
A53: 令和 年 月 日 | S53: 確認検査員 | AA53: 令和 年 月 日
A56: 第 建 | I56: 号 | AA56: 第 NKBI建- | AI56: 号
A59: 係員氏名 | AA59: 係員氏名

Sheet 中間１面
A1: 第二十六号様式（第四条の八、第四条の十一の二関係）
A3: 中 間 検 査 申 請 書
A6: （第一面）
A8: 建築基準法第７条の３第１項又は第７条の４第１項（これらの規定を同法第８７条の４又は第８８条第１項
A10: において準用する場合を含む。）の規定により、検査を申請します。
A12: この申請書及び添付図書に記載の事項は、事実に相違ありません。
A14: 申請にあたっては、株式会社北関東建築検査機構確認検査業務約款を遵守します。
C18: 株式会社 北関東建築検査機構 | AM18: ※ 令和3年1月1日以降の申請から押印が不要となりました。
D20: 代表取締役 田口 和宏 様
AM22: ※ 申請日はあらかじめ入力できません。
V23: 令和 | Z23: 年 | AC23: 月 | AF23: 日 | AM23: 本申請時に手書きしてください。
V25: =IF(確１面!V25="","",確１面!V25)
T26: 申請者氏名 | V26: =IF(確１面!V26="","",確１面!V26) | AM26: ※ 確認申請書から連動します。
F28: =IF(確１面!D28="","",確１面!D28) | V28: =IF(確１面!V28="","",確１面!V28)
F30: =IF(確１面!D30="","",確１面!D30) | V30: =IF(確１面!V30="","",確１面!V30)
V32: =IF(確１面!V32="","",確１面!V32)
B35: 第四面に記載の事項は、事実に相違ありません。
T37: 工事監理者氏名 | AM37: ※ 入力して下さい。
B41: 【検査を申請する建築物等】
F43: ■ | G43: 建築物 | S43: □ | T43: 建築設備（昇降機）
F45: □ | G45: 建築設備（昇降機以外） | S45: □ | T45: 工作物（昇降機）
F47: □ | G47: 工作物（法第88条第1項）
A52: ※手数料欄
A56: ※受付欄 | I56: ※検査の特例欄 | O56: ※検査欄 | V56: ※決裁欄 | AB56: ※中間検査合格証欄
A58: 令和 年 月 日 | I58: 特例の種別 | O58: 第１回 | V58: 確認検査員 | AB58: 令和 年 月 日
Q59: 年 | S59: 月 | U59: 日
J60: 無
A61: 第建 | H61: 号 | AB61: 第NKBI建- | AI61: 号
J62: 有 | L62: １号
L63: ２号 | O63: 第２回
A64: 係員氏名 | L64: ３号 | Q64: 年 | S64: 月 | U64: 日 | AB64: 係員氏名
L65: ４号
G68: 立会者の緊急連絡先(当日) TEL | W68: ご氏名 | AM68: ※ 当日の検査立会者様にご連絡することがあります。
AN69: （差し支えなければ、携帯電話番号をご記入ください。）

Sheet 完了１面
A1: 第十九号様式（第四条、第四条の四の二関係）
A3: 完 了 検 査 申 請 書
A6: （第一面）
A8: 建築基準法第７条第１項又は第７条の２第１項（これらの規定を同法第８７条の４又は第８８条第１項
A10: 若しくは第２項において準用する場合を含む。）の規定により、検査を申請します。
A12: この申請書及び添付図書に記載の事項は、事実に相違ありません。
A14: 申請にあたっては、株式会社北関東建築検査機構確認検査業務約款を遵守します。
C18: 株式会社 北関東建築検査機構 | AM18: ※ 令和3年1月1日以降の申請から押印が不要となりました。
D20: 代表取締役 田口 和宏 様
V23: 令和 | Z23: 年 | AC23: 月 | AF23: 日 | AM23: ※ 申請日はあらかじめ入力できません。
AM24: 本申請時に手書きしてください。
V25: =IF(確１面!V25="","",確１面!V25)
T26: 申請者氏名 | V26: =IF(確１面!V26="","",確１面!V26) | AM26: ※ 確認申請書から連動します。
F28: =IF(確１面!D28="","",確１面!D28) | V28: =IF(確１面!V28="","",確１面!V28)
F30: =IF(確１面!D30="","",確１面!D30) | V30: =IF(確１面!V30="","",確１面!V30)
V32: =IF(確１面!V32="","",確１面!V32)
B35: 第四面に記載の事項は、事実に相違ありません。
T37: 工事監理者氏名 | AM37: ※ 入力して下さい。
B41: 【検査を申請する建築物等】
F43: ■ | G43: 建築物 | S43: □ | T43: 建築設備（昇降機）
F45: □ | G45: 建築設備（昇降機以外） | S45: □ | T45: 工作物（昇降機）
F47: □ | G47: 工作物（法第88条第１項） | S47: □ | T47: 工作物（法第88条第２項）
A52: ※手数料欄
A56: ※受付欄 | I56: ※検査の特例欄 | O56: ※検査欄 | V56: ※決裁欄 | AB56: ※検査済証欄
A58: 令和 年 月 日 | I58: 特例の種別 | O58: 第１回 | V58: 確認検査員 | AB58: 令和 年 月 日
Q59: 年 | S59: 月 | U59: 日
J60: 無
A61: 第建 | H61: 号 | AB61: 第NKBI建- | AI61: 号
J62: 有 | L62: １号
L63: ２号 | O63: 第２回
A64: 係員氏名 | L64: ３号 | Q64: 年 | S64: 月 | U64: 日 | AB64: 係員氏名
L65: ４号
G68: 立会者の緊急連絡先(当日) TEL | W68: ご氏名 | AM68: ※ 当日の検査立会者様にご連絡することがあります。
AN69: （差し支えなければ、携帯電話番号をご記入ください。）
